BEGIN:VCALENDAR
VERSION:2.0
PRODID:-//Farmer Publishing - ECPv6.15.20//NONSGML v1.0//EN
CALSCALE:GREGORIAN
METHOD:PUBLISH
X-WR-CALNAME:Farmer Publishing
X-ORIGINAL-URL:https://farmerpublishing.com
X-WR-CALDESC:Events for Farmer Publishing
REFRESH-INTERVAL;VALUE=DURATION:PT1H
X-Robots-Tag:noindex
X-PUBLISHED-TTL:PT1H
BEGIN:VTIMEZONE
TZID:UTC
BEGIN:STANDARD
TZOFFSETFROM:+0000
TZOFFSETTO:+0000
TZNAME:UTC
DTSTART:20240101T000000
END:STANDARD
END:VTIMEZONE
BEGIN:VEVENT
DTSTART;TZID=UTC:20250526T110000
DTEND;TZID=UTC:20250526T130000
DTSTAMP:20260419T134352
CREATED:20250520T210752Z
LAST-MODIFIED:20250520T210752Z
UID:76677-1748257200-1748264400@farmerpublishing.com
SUMMARY:Memorial Day Dinner
DESCRIPTION:The Linden Christian Church is hosting a Memorial Day Dinner from 11 a.m. to 1 p.m. Monday\, May 26\, at the church located at 17191 165th Street\, Rock Port. The meal is $18 per plate with children five and under free.
URL:https://farmerpublishing.com/event/memorial-day-dinner-2/
END:VEVENT
BEGIN:VEVENT
DTSTART;TZID=UTC:20250526T100000
DTEND;TZID=UTC:20250526T110000
DTSTAMP:20260419T134352
CREATED:20250516T170512Z
LAST-MODIFIED:20250516T170512Z
UID:76453-1748253600-1748257200@farmerpublishing.com
SUMMARY:Vietnam veterans invited to 50-year anniversary recognition
DESCRIPTION:All Vietnam era veterans who served from August 5\, 1965\, to April 25\, 1975\, are invited to a 50-year anniversary recognition Monday\, May 26\, 2025\, at the Atchison County Memorial Building in Rock Port. Please plan to arrive at 10:00 a.m. that morning.
URL:https://farmerpublishing.com/event/vietnam-veterans-invited-to-50-year-anniversary-recognition/
END:VEVENT
BEGIN:VEVENT
DTSTART;TZID=UTC:20250525T110000
DTEND;TZID=UTC:20250525T140000
DTSTAMP:20260419T134352
CREATED:20250520T191404Z
LAST-MODIFIED:20250520T191404Z
UID:76519-1748170800-1748181600@farmerpublishing.com
SUMMARY:Memorial service 2025 at Walkup Grove Cemetery
DESCRIPTION:A memorial service of worship will be held Sunday\, May 25\, at 11:00 a.m. at Walkup Grove Cemetery in Atchison County. The worship is sponsored by St. Oswald’s-in-the-Field Episcopal Church\, with Fr. Sidney Breese presiding at this special service. Those in attendance should bring a lawn chair and enjoy the beauty and peace of a historical country cemetery. \nFollowing the worship service\, there will be a potluck dinner at St. Oswald’s. Please bring a dish for the meal. In case of inclement weather\, worship will be held at St. Oswald’s (30996 X Avenue\, Skidmore\, Missouri). \nWalkup Grove\, about 150 years old\, still retains its natural beauty. It is nestled among a grove of hickory nut trees on top of a hill which falls to the west on a sharp decline to the Little Tarkio River. Tranquility and peacefulness reign here. Travelers over a hundred years ago stopped at Mr. Walkup’s farm and asked for a place on his land to bury their child. This neighborhood cemetery is an ecumenical one with all denominations of religion buried there. At one time\, the neighborhood supported Presbyterian\, Methodist\, Baptist and Episcopal churches. St. Oswald’s is now the only remaining church in this area. \nFrom Mound City\, take Route N north of Mound City approximately 14 miles\, which is one mile south of Hwy. 46. Turn east on 280th. Continue on that gravel road one mile to Walkup Grove Cemetery. \nFrom Maryville\, take Highway 46 for 19 miles west. Turn south on EE for 2 miles. Turn west on 290th Avenue for one mile. Then turn north on W Avenue for one mile. The cemetery will be on your left. \nFrom Fairfax\, take Highway 46 east to State Route N. Turn south and go one mile\, then turn east on 280th Avenue. Continue on that gravel road one mile to Walkup Grove Cemetery.
URL:https://farmerpublishing.com/event/memorial-service-2025-at-walkup-grove-cemetery/
END:VEVENT
BEGIN:VEVENT
DTSTART;TZID=UTC:20250525T100000
DTEND;TZID=UTC:20250525T160000
DTSTAMP:20260419T134352
CREATED:20250516T165701Z
LAST-MODIFIED:20250516T165701Z
UID:76437-1748167200-1748188800@farmerpublishing.com
SUMMARY:High Creek Cemetery Memorial Day Tea
DESCRIPTION:The annual Memorial Day Tea will be held Sunday\, May 25\, 2025\, from 10:00 a.m. to 4:00 p.m. at the High Creek Church (15824 State Hwy. B\, Watson\, Missouri). This event is held inside the church\, so should there be sunshine or rain\, you will be free from the elements. You can expect the usual wide variety of cookies (with a new one or two) along with tea\, coffee\, or water. \nEveryone is welcome to come in and sit a spell and visit with whomever is there. Take a minute to catch up on the news or share a memory or two\, rest those tired feet\, and refresh the body with goodies before continuing on your day. If you wish\, bring your lawn chair and sit under the shade trees. \nMembers of the High Creek Cemetery Association hope to see you Sunday\, May 25\, 2025\, at the High Creek Cemetery.
URL:https://farmerpublishing.com/event/high-creek-cemetery-memorial-day-tea-2/
END:VEVENT
BEGIN:VEVENT
DTSTART;TZID=UTC:20250525T083000
DTEND;TZID=UTC:20250525T173000
DTSTAMP:20260419T134352
CREATED:20250318T192835Z
LAST-MODIFIED:20250520T205848Z
UID:74568-1748161800-1748194200@farmerpublishing.com
SUMMARY:Community-wide revival of Tarkiesta May 25
DESCRIPTION:A community-wide annual celebration from the 1940s is being reborn this spring in Tarkio. The Tarkiesta celebration will be held on Sunday\, May 25. The theme will be centered on celebrating the 200th birthday of David Rankin. \nIn the late 19th century\, Rankin became the largest farmer in the United States and a key developer of Tarkio. After buying his first land in Atchison County in the 1870s\, he moved to Tarkio in 1885 from Illinois at the age of 60. His two sons preceded him to Northwest Missouri. Rankin created a farming empire and pioneered the practice of farming with multi-row cultivators with his army of mules\, as well as crop rotation\, and profit-sharing with his managers. In addition to his farming enterprises\, he also was a co-founder of Tarkio College and established Midland Manufacturing Company\, which made cultivators and other farm equipment. Other local enterprises he began included bringing the railroad to Tarkio\, Fairfax and Westboro\, which was key for development of the town of Tarkio\, as well as establishing the First National Bank\, local telephone and electric utility service\, among several other ventures. \nTarkiesta was first celebrated in August of 1941\, suspended during WWII\, then resumed in 1946. The festival was last held about 75 years ago. \nThis year’s celebration will begin with “Cowboy Church” at 8:30 a.m. in the Rotary Theatre at The Curnutt Center at Tarkio Tech. At 10:30 a.m.\, a community-wide worship service will take place at the Tarkio Presbyterian Church. Reverend Mark Dalbey will be the speaker. Food trucks will be set up at 1st and Main streets for lunch from 11:00 a.m. to 1:30 p.m. A historic business “self-tour” will take place during that time on Main Street from 1st to 4th streets. A David Rankin program will be held at 1st and Main from 1:30 to 2:30 p.m. and a parade will follow at 2:30 p.m. The parade will go up Main Street\, starting at 1st and ending at the Tarkio Tech campus. Campus and museum tours (the TCAA Museum at Rankin Hall and the David Rankin Museum at The Curnutt Center) will be held from 3:00 to 5:00 p.m. Also during that time\, mules will be on display on campus. A Rankin Homes riding tour will be held from 3:00 to 5:00 p.m. beginning on the west side of the Dr. Jack Schmidt Welding Center on campus. At 5:30 p.m.\, a wreath ceremony will be held at Tarkio Home Cemetery and Center Grove Cemetery outside of Westboro.
URL:https://farmerpublishing.com/event/community-wide-revival-of-tarkiesta-may-25/
END:VEVENT
BEGIN:VEVENT
DTSTART;TZID=UTC:20250524T170000
DTEND;TZID=UTC:20250524T200000
DTSTAMP:20260419T134352
CREATED:20250304T165803Z
LAST-MODIFIED:20250304T165803Z
UID:74131-1748106000-1748116800@farmerpublishing.com
SUMMARY:Tarkio High School Alumni Banquet
DESCRIPTION:The Tarkio High School Alumni Banquet will be held Saturday\, May 24\, 2025\, at the Tarkio High School Gymnasium. Social hour will begin at 5:00 p.m.\, followed by the dinner at 6:00 p.m. and a business meeting at 7:00 p.m. \nTickets are $20 each and may be purchased ahead of time at the Flower Mill or at the Farmers State Bank\, both in Tarkio\, or at the door the night of the event. The meal will be catered by Horseshoe Catering of Sidney\, Iowa\, and will include marinated chicken breast or baron of beef\, with mashed potatoes and gravy\, green beans\, salad\, and roll.
URL:https://farmerpublishing.com/event/tarkio-high-school-alumni-banquet/
END:VEVENT
BEGIN:VEVENT
DTSTART;TZID=UTC:20250524T080000
DTEND;TZID=UTC:20250526T170000
DTSTAMP:20260419T134352
CREATED:20250520T211323Z
LAST-MODIFIED:20250520T211323Z
UID:76684-1748073600-1748278800@farmerpublishing.com
SUMMARY:Brownville\, Nebraska\, Flea Market
DESCRIPTION:Brownville\, Nebraska\, Flea Market \nOver 200 vendors \nFree Admission 8-5 May 24-26
URL:https://farmerpublishing.com/event/brownville-nebraska-flea-market/
END:VEVENT
BEGIN:VEVENT
DTSTART;TZID=UTC:20250521T160000
DTEND;TZID=UTC:20250521T190000
DTSTAMP:20260419T134352
CREATED:20250408T195809Z
LAST-MODIFIED:20250408T195809Z
UID:75161-1747843200-1747854000@farmerpublishing.com
SUMMARY:Summer Palooza May 21
DESCRIPTION:The Rock Port Tourism Board will host its third Summer Palooza Wednesday\, May 21\, from 4:00 to 7:00 p.m. at the Rock Port Memorial Park. This family friendly event is free and open to all ages and is a great way to celebrate the kick-off of summer vacation. Activities will include a 10 bounce houses\, photo booth\, and horseback rides. \nHot dogs\, water\, and chips will also be available free of charge. \nAll children must be registered and wearing their wristband to participate. (Parents\, please attend with children.) \nFor more information\, visit the Rock Port Tourism Board’s Facebook page.
URL:https://farmerpublishing.com/event/summer-palooza-may-21/
END:VEVENT
BEGIN:VEVENT
DTSTART;TZID=UTC:20250520T160000
DTEND;TZID=UTC:20250521T170000
DTSTAMP:20260419T134352
CREATED:20250520T190847Z
LAST-MODIFIED:20250520T190847Z
UID:76513-1747756800-1747846800@farmerpublishing.com
SUMMARY:District Baseball update
DESCRIPTION:The EA Wolves play at 4 p.m. tonight\, Tuesday\, May 20\, against Maysville. However\, the game location has changed to Maryville High School (1503 S. Munn Ave) since that field has turf.\nThe RP Blue Jays play at 5 p.m. at the Rock Port City Ball Field Wednesday\, May 21 (opponent to be determined).\nIf you are able to attend these games and cheer on our local athletes\, please do so\, as both teams have worked very hard to get to where they are today!
URL:https://farmerpublishing.com/event/district-baseball-update/
END:VEVENT
BEGIN:VEVENT
DTSTART;TZID=UTC:20250520T080000
DTEND;TZID=UTC:20250520T170000
DTSTAMP:20260419T134352
CREATED:20250520T210322Z
LAST-MODIFIED:20250520T210322Z
UID:76675-1747728000-1747760400@farmerpublishing.com
SUMMARY:MEMORIAL DAY SERVICES
DESCRIPTION:Mound City – Mount Hope Cemetery 8:00 a.m. \nCraig – I.O.O.F. Cemetery 8:45 a.m. \nFairfax – Fairfax City Park 9:30 a.m. \nRock Port – Atchison County Memorial Building 10:15 a.m. \nNear Westboro – St. John’s Lutheran Church 11:00 a.m. \nSouth of Westboro – Center Grove Cemetery 11:45 a.m. \nTarkio – Home Cemetery  12:30 p.m.
URL:https://farmerpublishing.com/event/memorial-day-services/
END:VEVENT
BEGIN:VEVENT
DTSTART;TZID=UTC:20250519T160000
DTEND;TZID=UTC:20250519T190000
DTSTAMP:20260419T134352
CREATED:20250508T232949Z
LAST-MODIFIED:20250508T232949Z
UID:76224-1747670400-1747681200@farmerpublishing.com
SUMMARY:RP Blue Jays to compete in District Baseball
DESCRIPTION:The Rock Port High School Blue Jays’ Baseball Team will compete in the Class 1\, District 16 Tournament\, with their first game to be played Monday\, May 19\, at 4 p.m. against the winner of the North Andrew and North Nodaway game (that game is to be played on May 16).
URL:https://farmerpublishing.com/event/rp-blue-jays-to-compete-in-district-baseball/
END:VEVENT
BEGIN:VEVENT
DTSTART;TZID=UTC:20250519T070000
DTEND;TZID=UTC:20250602T170000
DTSTAMP:20260419T134352
CREATED:20250506T231449Z
LAST-MODIFIED:20250506T231449Z
UID:76126-1747638000-1748883600@farmerpublishing.com
SUMMARY:Seven-county scrub seal project to begin May 19
DESCRIPTION:A seven-county scrub seal project will lengthen the lifespan of roadways in Atchison\, Holt\, Nodaway\, Andrew\, Buchanan\, Clinton and DeKalb counties. The Missouri Department of Transportation contracted Vance Brothers\, Inc. to resurface the routes beginning Monday\, May 19. The contractors have scheduled six routes\, tentatively as follows: \n• May 19-20: Atchison County Route V \n• May 21-28: Atchison County U.S. Route 275 \n• May 29: Atchison County Route T \n• May 30-June 2: Atchison County Route B \n• June 3-5: Nodaway County Route B \n• June 6-12: Nodaway County Missouri Route 148 \n• June 13-20: Nodaway and Holt County Missouri Route 113 \nTraffic Impacts \nDuring construction\, crews will narrow the roadway to one lane with a pilot car guiding motorists through the work zone. Flaggers will also be present at intersections. \nThe contractor has until December 2026 to complete this project. Scheduling details for the remaining routes will be made available as they are determined. The remaining routes are: \n• Andrew County Route D \n• Andrew County Route DD \n• Andrew/Buchanan counties Route W \n• Andrew County Route O \n• Buchanan County Missouri Route 371 \n• Buchanan County Route H \n• Buchanan County Route E \n• Clinton County Route K \nProject schedule updates will be provided on the Traveler Information Map (http://traveler.modot.org/map/) and on the Planned Roadwork for Northwest Missouri press release sent out each Friday afternoon. The press release can be viewed by signing up for eUpdates at MoDOT E-Updates. \nAll work is weather permitting and could be rescheduled. \nMoDOT asks drivers to buckle up\, keep your phone down\, slow down and move over in work zones. Know before you go and check what work zones you might encounter at traveler.modot.org. \nGet project and work zone news straight to your email by signing up for eUpdates. Information is also available 24/7 by calling 888-ASK-MODOT (275-6636) or visiting www.modot.org/northwest.
URL:https://farmerpublishing.com/event/seven-county-scrub-seal-project-to-begin-may-19/
END:VEVENT
BEGIN:VEVENT
DTSTART;TZID=UTC:20250518T133000
DTEND;TZID=UTC:20250518T150000
DTSTAMP:20260419T134352
CREATED:20250506T235413Z
LAST-MODIFIED:20250506T235413Z
UID:76191-1747575000-1747580400@farmerpublishing.com
SUMMARY:Rock Port High School Class of 2025 Commencement Ceremony
DESCRIPTION:Rock Port High School graduation will be held at 1:30 p.m. Sunday\, May 18. The ceremony will be held in the high school.
URL:https://farmerpublishing.com/event/rock-port-high-school-class-of-2025-commencement-ceremony/
END:VEVENT
BEGIN:VEVENT
DTSTART;TZID=UTC:20250518T130000
DTEND;TZID=UTC:20250518T140000
DTSTAMP:20260419T134352
CREATED:20250506T235304Z
LAST-MODIFIED:20250506T235304Z
UID:76189-1747573200-1747576800@farmerpublishing.com
SUMMARY:Fairfax High School Class of 2025 Commencement Ceremony
DESCRIPTION:Fairfax High School graduation will be held at 1:00 p.m. Sunday\, May 18. The ceremony will take place in the high school gym.
URL:https://farmerpublishing.com/event/fairfax-high-school-class-of-2025-commencement-ceremony/
END:VEVENT
BEGIN:VEVENT
DTSTART;TZID=UTC:20250517T120000
DTEND;TZID=UTC:20250517T140000
DTSTAMP:20260419T134352
CREATED:20250408T190450Z
LAST-MODIFIED:20250408T190450Z
UID:75066-1747483200-1747490400@farmerpublishing.com
SUMMARY:Westboro alumni to gather in May
DESCRIPTION:Yes\, the Westboro Wildcats will be gathering for a reunion in May. The Westboro High School Alumni Banquet will take place Saturday\, May 17\, at 12:00 noon at the new Westboro Fire Station\, at the west end of Main Street. Dinner will be catered and the cost is $12.00 per person. \nHonored classes are: 1945\, 1955\, and 1965. The reunion gathering is open to all those who attended Westboro School. Spouses and guests are welcome\, too. Call Carol Kirkpatrick for reservations (please call as and an accurate count for the caterer is needed) at 660-984-5416 or cell 816-341-1176 or contact Bev Clinkingbeard at 660-623-9110.
URL:https://farmerpublishing.com/event/westboro-alumni-to-gather-in-may/
END:VEVENT
BEGIN:VEVENT
DTSTART;TZID=UTC:20250517T090000
DTEND;TZID=UTC:20250517T170000
DTSTAMP:20260419T134352
CREATED:20250508T233133Z
LAST-MODIFIED:20250508T233133Z
UID:76226-1747472400-1747501200@farmerpublishing.com
SUMMARY:Sectional Track
DESCRIPTION:Those East Atchison and Rock Port high school track athletes who qualified at Districts will be competing at Sectional Track at Mound City Saturday\, May 17.
URL:https://farmerpublishing.com/event/sectional-track/
END:VEVENT
BEGIN:VEVENT
DTSTART;TZID=UTC:20250516T190000
DTEND;TZID=UTC:20250516T210000
DTSTAMP:20260419T134352
CREATED:20250318T192651Z
LAST-MODIFIED:20250318T192651Z
UID:74566-1747422000-1747429200@farmerpublishing.com
SUMMARY:105th annual Fairfax High School Alumni Banquet May 16
DESCRIPTION:The 105th annual Fairfax High School Alumni Banquet is scheduled for Friday\, May 16\, 2025\, at 7:00 p.m. at the high school. Reservations can be made to Aleesha Lemar by calling or texting 660-920-9040 or mail reservations ($15/person) to 17825 390th Street\, Graham\, MO 64455 or make them at KG Buds in Fairfax (leave a name\, number of people attending\, and graduating class year).
URL:https://farmerpublishing.com/event/105th-annual-fairfax-high-school-alumni-banquet-may-16/
END:VEVENT
BEGIN:VEVENT
DTSTART;TZID=UTC:20250516T160000
DTEND;TZID=UTC:20250516T190000
DTSTAMP:20260419T134352
CREATED:20250508T232711Z
LAST-MODIFIED:20250508T232711Z
UID:76222-1747411200-1747422000@farmerpublishing.com
SUMMARY:EA Wolves to compete in District Baseball
DESCRIPTION:The East Atchison Wolves will take on the Northeast Nodaway team in District baseball action Friday\, May 16\, in Burlington Junction at 4 p.m.
URL:https://farmerpublishing.com/event/ea-wolves-to-compete-in-district-baseball/
END:VEVENT
BEGIN:VEVENT
DTSTART;TZID=UTC:20250516T160000
DTEND;TZID=UTC:20250516T170000
DTSTAMP:20260419T134352
CREATED:20250422T204405Z
LAST-MODIFIED:20250422T204405Z
UID:75566-1747411200-1747414800@farmerpublishing.com
SUMMARY:Ribbon cutting and open house at Boundless Grace
DESCRIPTION:The Tarkio Chamber of Commerce will hold a ribbon cutting Friday\, May 16\, at Boundless Grace\, 402 Main Street in Tarkio. The ribbon cutting will be at 4:00 p.m. along with an open house. Refreshments will be available. The owners of the new business are Cassie Shaw\, Jami DeRosier\, and Mandy Whipple.
URL:https://farmerpublishing.com/event/ribbon-cutting-and-open-house-at-boundless-grace/
END:VEVENT
BEGIN:VEVENT
DTSTART;TZID=UTC:20250516T110000
DTEND;TZID=UTC:20250819T123000
DTSTAMP:20260419T134352
CREATED:20250506T233249Z
LAST-MODIFIED:20250812T195150Z
UID:76157-1747393200-1755606600@farmerpublishing.com
SUMMARY:Tarkio summer meals
DESCRIPTION:Free summer meals for all kids and teens will begin when the school year ends. Meals are free to children under the age of 18 and adults coming with a child can eat free\, thanks to Community Services. \nThe meals will be available weekdays through August 19\, 11:00 a.m. to 12:30 p.m. at the Tarkio Nutrition Center\, 412 Main Street. Call 660-736-5725 for more information. \nThis year\, the kids’ summer menu will be the same as the adult menu. For those who don’t want what is on the menu\, a turkey/ham and cheese sandwich or peanut butter and jelly sandwich will be available. \nWednesday\, August 13 – Shrimp scampi or popcorn shrimp\, asparagus\, cole slaw\, peaches \nThursday\, August 14 – Liver and onions or Polish sausage/hot dog\, carrots\, whole potato\, pears \nFriday\, August 15 – Breakfast sandwich\, hash browns\, corn\, blueberries \nMonday\, August 18 – Chicken parmesan or chicken patty\, Italian blend vegetables\, lettuce salad\, apricots \nTuesday\, August 19 – Sliced ham\, sweet potatoes\, green bean casserole\, applesauce
URL:https://farmerpublishing.com/event/tarkio-summer-meals/
END:VEVENT
BEGIN:VEVENT
DTSTART;TZID=UTC:20250515T190000
DTEND;TZID=UTC:20250515T210000
DTSTAMP:20260419T134352
CREATED:20250508T232605Z
LAST-MODIFIED:20250508T232605Z
UID:76220-1747335600-1747342800@farmerpublishing.com
SUMMARY:Rock Port Fine Arts' Banquet
DESCRIPTION:A Rock Port R-II Fine Arts’ Banquet will be held at the school from 7 to 9 p.m. Thursday\, May 15.
URL:https://farmerpublishing.com/event/rock-port-fine-arts-banquet/
END:VEVENT
BEGIN:VEVENT
DTSTART;TZID=UTC:20250515T103000
DTEND;TZID=UTC:20250515T123000
DTSTAMP:20260419T134352
CREATED:20250508T232516Z
LAST-MODIFIED:20250508T232516Z
UID:76218-1747305000-1747312200@farmerpublishing.com
SUMMARY:Rock Port R-II awards
DESCRIPTION:Students at Rock Port R-II will be presented with awards in an assembly at the school from 10:30 a.m. to 12:15 p.m. Thursday\, May 15.
URL:https://farmerpublishing.com/event/rock-port-r-ii-awards/
END:VEVENT
BEGIN:VEVENT
DTSTART;TZID=UTC:20250515T073000
DTEND;TZID=UTC:20250515T123000
DTSTAMP:20260419T134352
CREATED:20250508T232400Z
LAST-MODIFIED:20250508T232400Z
UID:76216-1747294200-1747312200@farmerpublishing.com
SUMMARY:Last Day of School at Tarkio R-I
DESCRIPTION:Classes at Tarkio R-I will be dismissing at 12:30 p.m. Thursday\, May 15\, as this is the last day of school for summer break.
URL:https://farmerpublishing.com/event/last-day-of-school-at-tarkio-r-i/
END:VEVENT
BEGIN:VEVENT
DTSTART;TZID=UTC:20250514T080000
DTEND;TZID=UTC:20250514T120000
DTSTAMP:20260419T134352
CREATED:20250508T232256Z
LAST-MODIFIED:20250508T232256Z
UID:76214-1747209600-1747224000@farmerpublishing.com
SUMMARY:Fairfax R-3 Elementary\, Jr. High\, and High School Awards
DESCRIPTION:Fairfax R-3 Elementary\, Jr. High\, and High School students will be recognized for their achievements this year in an awards’ assembly that begins at 8:15 a.m. Wednesday\, May 14\, in the high school gym. This is also the last day of school and classes will dismiss early.
URL:https://farmerpublishing.com/event/fairfax-r-3-elementary-jr-high-and-high-school-awards/
END:VEVENT
BEGIN:VEVENT
DTSTART;TZID=UTC:20250513T100000
DTEND;TZID=UTC:20250513T110000
DTSTAMP:20260419T134352
CREATED:20250429T200436Z
LAST-MODIFIED:20250429T200436Z
UID:75866-1747130400-1747134000@farmerpublishing.com
SUMMARY:Bingo at the Senior Center
DESCRIPTION:Bingo at the Rock Port Senior Center\, 505 Country Club Drive\, is scheduled the second and fourth Tuesday of every month. Games start at 10:00 a.m. so you will have to enjoy a game or two with friends before lunch. The next Bingo games will be May 13.
URL:https://farmerpublishing.com/event/bingo-at-the-senior-center/
END:VEVENT
BEGIN:VEVENT
DTSTART;TZID=UTC:20250512T163000
DTEND;TZID=UTC:20250512T200000
DTSTAMP:20260419T134352
CREATED:20250508T232201Z
LAST-MODIFIED:20250508T232201Z
UID:76212-1747067400-1747080000@farmerpublishing.com
SUMMARY:Rock Port High School Baseball and Senior Parents' Night
DESCRIPTION:The Rock Port High School Baseball Team will host Maysville at 5 p.m. at the city ball field Monday\, May 12. Seniors who played spring sports and their parents will be honored before the start of the game in a special ceremony.
URL:https://farmerpublishing.com/event/rock-port-high-school-baseball-and-senior-parents-night/
END:VEVENT
BEGIN:VEVENT
DTSTART;TZID=UTC:20250512T100000
DTEND;TZID=UTC:20250512T120000
DTSTAMP:20260419T134352
CREATED:20250506T233750Z
LAST-MODIFIED:20250506T233750Z
UID:76168-1747044000-1747051200@farmerpublishing.com
SUMMARY:Mobile food pantry
DESCRIPTION:The next Second Harvest mobile food pantry in Atchison County will be Monday\, May 12\, at Rock Port High School\, 600 S. Nebraska Street in Rock Port\, beginning at 10:00 a.m. Vehicles should drive east on Calhoun Street along the north side of the school. Supplies are limited\, but the food is free to the public. There are no income guidelines.
URL:https://farmerpublishing.com/event/mobile-food-pantry-3/
END:VEVENT
BEGIN:VEVENT
DTSTART;TZID=UTC:20250512T090000
DTEND;TZID=UTC:20250517T170000
DTSTAMP:20260419T134352
CREATED:20250408T195855Z
LAST-MODIFIED:20250506T233603Z
UID:75163-1747040400-1747501200@farmerpublishing.com
SUMMARY:Campus work days
DESCRIPTION:Tarkio Tech campus cleanup \nTarkio Technology Institute is hosting a clean-up week May 12-16 from 9:00 a.m. to 5:00 p.m. Volunteers are needed to work inside and outside the buildings. There will be some tools available for garden and outside work\, but please feel free to bring your own. Everyone is asked to meet at The Curnutt Center at 9:00 a.m. each day. Lunch will be provided. For more information\, call 660-973-5216. \nTCAA Museum work days \nIf you are a Tarkio College alumnus\, you are invited to join TCAA board members for workdays at the museum in Rankin Hall May 15-17. Lunch will be provided on the 16th and 17th. They need to know if you are coming (e-mail: tcaa@tarkio.net). TCAA is trying to get the museum ready for Tarkiesta later in the month.
URL:https://farmerpublishing.com/event/tarkio-tech-campus-cleanup/
END:VEVENT
BEGIN:VEVENT
DTSTART;TZID=UTC:20250511T140000
DTEND;TZID=UTC:20250511T150000
DTSTAMP:20260419T134352
CREATED:20250506T235143Z
LAST-MODIFIED:20250506T235143Z
UID:76187-1746972000-1746975600@farmerpublishing.com
SUMMARY:Tarkio High School Class of 2025 Commencement Ceremony
DESCRIPTION:Tarkio High School graduation will be held at 2:00 p.m. Sunday\, May 11\, in the high school gym. The graduates will create a receiving line on the east side of the building following the ceremony or in the hallway if it is raining.
URL:https://farmerpublishing.com/event/tarkio-high-school-class-of-2025-commencement-ceremony/
END:VEVENT
BEGIN:VEVENT
DTSTART;TZID=UTC:20250510T093000
DTEND;TZID=UTC:20250510T170000
DTSTAMP:20260419T134352
CREATED:20250508T232015Z
LAST-MODIFIED:20250508T232015Z
UID:76210-1746869400-1746896400@farmerpublishing.com
SUMMARY:District Track
DESCRIPTION:Good luck to all of our local athletes as they compete in District track and field competitions in Worth County\, beginning at 9:30 a.m. at Grant City Saturday\, May 10.
URL:https://farmerpublishing.com/event/district-track/
END:VEVENT
END:VCALENDAR